{
 "currentVersion": 10.91,
 "serviceDescription": "Single-band, black and white imagery collected in 1940 of Brazos County. Individual tiles were downloaded from a Google Drive (courtesy of Texas A&M University) and georeferenced by COBGIS.",
 "name": "Imagery/BRAZOS_1940_cached",
 "description": "Single-band, black and white imagery collected in 1940 of Brazos County. Individual tiles were downloaded from a Google Drive (courtesy of Texas A&M University) and georeferenced by COBGIS.",
 "extent": {
  "xmin": 3460181.058675973,
  "ymin": 1.0101885681172384E7,
  "xmax": 3641486.157664977,
  "ymax": 1.0344201147771388E7,
  "spatialReference": {
   "wkid": 103160,
   "latestWkid": 6578
  }
 },
 "initialExtent": {
  "xmin": 3460181.058675973,
  "ymin": 1.0101885681172384E7,
  "xmax": 3641486.157664977,
  "ymax": 1.0344201147771388E7,
  "spatialReference": {
   "wkid": 103160,
   "latestWkid": 6578
  }
 },
 "fullExtent": {
  "xmin": 3460181.058675973,
  "ymin": 1.0101885681172384E7,
  "xmax": 3641486.157664977,
  "ymax": 1.0344201147771388E7,
  "spatialReference": {
   "wkid": 103160,
   "latestWkid": 6578
  }
 },
 "hasMultidimensions": false,
 "pixelSizeX": 2.6677030000000013,
 "pixelSizeY": 2.6677030000000066,
 "datasetFormat": "AMD",
 "uncompressedSize": 6173283179,
 "blockWidth": 2048,
 "blockHeight": 256,
 "compressionType": "None",
 "bandNames": [
  "Band_1"
 ],
 "allowCopy": true,
 "allowAnalysis": true,
 "bandCount": 1,
 "pixelType": "U8",
 "minPixelSize": 0.4897991215277778,
 "maxPixelSize": 2006.2172023914932,
 "copyrightText": "Images courtesy of Maps & GIS, Texas A&M University Libraries, Texas A&M University",
 "serviceDataType": "esriImageServiceDataTypeGeneric",
 "serviceSourceType": "esriImageServiceSourceTypeMosaicDataset",
 "minValues": [
  12
 ],
 "maxValues": [
  255
 ],
 "meanValues": [
  145.8548450136157
 ],
 "stdvValues": [
  41.479046167638494
 ],
 "objectIdField": "OBJECTID",
 "fields": [
  {
   "name": "OBJECTID",
   "type": "esriFieldTypeOID",
   "alias": "OBJECTID",
   "domain": null
  },
  {
   "name": "Name",
   "type": "esriFieldTypeString",
   "alias": "Name",
   "domain": null,
   "length": 200
  },
  {
   "name": "MinPS",
   "type": "esriFieldTypeDouble",
   "alias": "MinPS",
   "domain": null
  },
  {
   "name": "MaxPS",
   "type": "esriFieldTypeDouble",
   "alias": "MaxPS",
   "domain": null
  },
  {
   "name": "LowPS",
   "type": "esriFieldTypeDouble",
   "alias": "LowPS",
   "domain": null
  },
  {
   "name": "HighPS",
   "type": "esriFieldTypeDouble",
   "alias": "HighPS",
   "domain": null
  },
  {
   "name": "Category",
   "type": "esriFieldTypeInteger",
   "alias": "Category",
   "domain": {
    "type": "codedValue",
    "name": "MosaicCatalogItemCategoryDomain",
    "description": "Catalog item categories.",
    "codedValues": [
     {
      "name": "Unknown",
      "code": 0
     },
     {
      "name": "Primary",
      "code": 1
     },
     {
      "name": "Overview",
      "code": 2
     },
     {
      "name": "Unprocessed Overview",
      "code": 3
     },
     {
      "name": "Partial Overview",
      "code": 4
     },
     {
      "name": "Inactive",
      "code": 5
     },
     {
      "name": "Uploaded",
      "code": 253
     },
     {
      "name": "Incomplete",
      "code": 254
     },
     {
      "name": "Custom",
      "code": 255
     }
    ],
    "mergePolicy": "esriMPTDefaultValue",
    "splitPolicy": "esriSPTDefaultValue"
   }
  },
  {
   "name": "Tag",
   "type": "esriFieldTypeString",
   "alias": "Tag",
   "domain": null,
   "length": 100
  },
  {
   "name": "GroupName",
   "type": "esriFieldTypeString",
   "alias": "GroupName",
   "domain": null,
   "length": 100
  },
  {
   "name": "ProductName",
   "type": "esriFieldTypeString",
   "alias": "ProductName",
   "domain": null,
   "length": 100
  },
  {
   "name": "CenterX",
   "type": "esriFieldTypeDouble",
   "alias": "CenterX",
   "domain": null
  },
  {
   "name": "CenterY",
   "type": "esriFieldTypeDouble",
   "alias": "CenterY",
   "domain": null
  },
  {
   "name": "ZOrder",
   "type": "esriFieldTypeInteger",
   "alias": "ZOrder",
   "domain": null
  },
  {
   "name": "Shape",
   "type": "esriFieldTypeGeometry",
   "alias": "Shape",
   "domain": null
  },
  {
   "name": "Shape.STArea()",
   "type": "esriFieldTypeDouble",
   "alias": "Shape.STArea()",
   "domain": null
  },
  {
   "name": "Shape.STLength()",
   "type": "esriFieldTypeDouble",
   "alias": "Shape.STLength()",
   "domain": null
  }
 ],
 "capabilities": "Catalog,Image,Metadata",
 "defaultMosaicMethod": "None",
 "allowedMosaicMethods": "None,NorthWest,Center,LockRaster,ByAttribute,Nadir,Viewpoint,Seamline",
 "mosaicOperator": "Blend",
 "maxDownloadSizeLimit": 2048,
 "defaultCompressionQuality": 75,
 "defaultResamplingMethod": "Bilinear",
 "maxImageHeight": 4100,
 "maxImageWidth": 15000,
 "maxRecordCount": 1000,
 "maxDownloadImageCount": 20,
 "maxMosaicImageCount": 20,
 "singleFusedMapCache": true,
 "tileInfo": {
  "rows": 256,
  "cols": 256,
  "dpi": 96,
  "format": "MIXED",
  "compressionQuality": 75,
  "origin": {
   "x": -124805500,
   "y": 1.7228100000000003E8
  },
  "spatialReference": {
   "wkid": 103160,
   "latestWkid": 6578
  },
  "lods": [
   {
    "level": 0,
    "resolution": 55555.555555555555,
    "scale": 64000000
   },
   {
    "level": 1,
    "resolution": 27777.777777777777,
    "scale": 32000000
   },
   {
    "level": 2,
    "resolution": 13888.888888888889,
    "scale": 16000000
   },
   {
    "level": 3,
    "resolution": 6944.444444444444,
    "scale": 8000000
   },
   {
    "level": 4,
    "resolution": 3472.222222222222,
    "scale": 4000000
   },
   {
    "level": 5,
    "resolution": 1736.111111111111,
    "scale": 2000000
   },
   {
    "level": 6,
    "resolution": 868.0555555555555,
    "scale": 1000000
   },
   {
    "level": 7,
    "resolution": 434.02777777777777,
    "scale": 500000
   },
   {
    "level": 8,
    "resolution": 217.01388888888889,
    "scale": 250000
   },
   {
    "level": 9,
    "resolution": 108.50694444444444,
    "scale": 125000
   },
   {
    "level": 10,
    "resolution": 54.25347222222222,
    "scale": 62500
   },
   {
    "level": 11,
    "resolution": 27.12673611111111,
    "scale": 31250
   },
   {
    "level": 12,
    "resolution": 13.563368055555555,
    "scale": 15625
   },
   {
    "level": 13,
    "resolution": 6.781684027777778,
    "scale": 7812.5
   },
   {
    "level": 14,
    "resolution": 3.390842013888889,
    "scale": 3906.25
   },
   {
    "level": 15,
    "resolution": 1.6954210069444444,
    "scale": 1953.125
   }
  ]
 },
 "storageInfo": {
  "storageFormat": "esriMapCacheStorageModeCompactV2",
  "packetSize": 128
 },
 "cacheType": "Map",
 "allowRasterFunction": true,
 "rasterFunctionInfos": [
  {
   "name": "None",
   "description": "Make a Raster or Raster Dataset into a Function Raster Dataset.",
   "help": ""
  }
 ],
 "rasterTypeInfos": [
  {
   "name": "Raster Dataset",
   "description": "Supports all ArcGIS Raster Datasets",
   "help": ""
  }
 ],
 "mensurationCapabilities": "None",
 "hasHistograms": true,
 "hasColormap": false,
 "hasRasterAttributeTable": false,
 "minScale": 2311162.217155,
 "maxScale": 564.248588,
 "minLOD": 0,
 "maxLOD": 15,
 "exportTilesAllowed": false,
 "supportsStatistics": true,
 "supportsAdvancedQueries": true,
 "editFieldsInfo": null,
 "ownershipBasedAccessControlForRasters": null,
 "allowComputeTiePoints": false,
 "useStandardizedQueries": true,
 "advancedQueryCapabilities": {
  "useStandardizedQueries": true,
  "supportsStatistics": true,
  "supportsOrderBy": true,
  "supportsDistinct": true,
  "supportsPagination": true
 },
 "spatialReference": {
  "wkid": 103160,
  "latestWkid": 6578
 }
}
