<?xml version="1.0" encoding="UTF-8" standalone="no"?>
<metadata xml:lang="en">
<Esri>
<CreaDate>20190829</CreaDate>
<CreaTime>11395100</CreaTime>
<ArcGISFormat>1.0</ArcGISFormat>
<SyncOnce>FALSE</SyncOnce>
<DataProperties>
<lineage>
<Process Date="20190829" Name="" Time="113951" ToolSource="c:\program files (x86)\arcgis\desktop10.6\ArcToolbox\Toolboxes\Data Management Tools.tbx\CreateMosaicDataset" export="">CreateMosaicDataset "Database Connections\GEODATA(RASTER_DB1)@GEO_CREATOR.sde" BRAZOS_2011_6IN_1FT "PROJCS['NAD_1983_StatePlane_Texas_Central_FIPS_4203_Feet',GEOGCS['GCS_North_American_1983',DATUM['D_North_American_1983',SPHEROID['GRS_1980',6378137.0,298.257222101]],PRIMEM['Greenwich',0.0],UNIT['Degree',0.0174532925199433]],PROJECTION['Lambert_Conformal_Conic'],PARAMETER['False_Easting',2296583.333333333],PARAMETER['False_Northing',9842500.0],PARAMETER['Central_Meridian',-100.3333333333333],PARAMETER['Standard_Parallel_1',30.11666666666667],PARAMETER['Standard_Parallel_2',31.88333333333333],PARAMETER['Latitude_Of_Origin',29.66666666666667],UNIT['Foot_US',0.3048006096012192]];-124805500 -81923100 3048.00609601219;-100000 10000;-100000 10000;3.28083333333333E-03;0.001;0.001;IsHighPrecision" 4 8_BIT_UNSIGNED NATURAL_COLOR_RGBI "Red 630 690;Green 530 570;Blue 440 510;Infrared 770 830"</Process>
<Process Date="20190903" Name="" Time="165958" ToolSource="c:\program files (x86)\arcgis\desktop10.6\ArcToolbox\Toolboxes\Data Management Tools.tbx\DefineOverviews" export="">DefineOverviews "Database Connections\GEODATA(RASTER_DB1)@GEO_CREATOR.sde\RASTER_DB1."COBNET\GEO_CREATOR".BRAZOS_2011_6IN_1FT" # # "3466952.99985647 10107329.0001256 3637959.00003539 10345707.0000746" 6 -1 # # 3 NO_FORCE_OVERVIEW_TILES BILINEAR JPEG 85</Process>
<Process Date="20190903" Name="" Time="191605" ToolSource="c:\program files (x86)\arcgis\desktop10.6\ArcToolbox\Toolboxes\Data Management Tools.tbx\BuildOverviews" export="">BuildOverviews "Database Connections\GEODATA(RASTER_DB1)@GEO_CREATOR.sde\RASTER_DB1."COBNET\GEO_CREATOR".BRAZOS_2011_6IN_1FT" # DEFINE_MISSING_TILES GENERATE_OVERVIEWS GENERATE_MISSING_IMAGES REGENERATE_STALE_IMAGES</Process>
</lineage>
<itemProps>
<itemName Sync="TRUE">RASTER_DB1."COBNET\GEO_CREATOR".BRAZOS_2011_6IN_1FT</itemName>
<itemLocation>
<linkage Sync="TRUE">Server=GEODATA; Service=sde:sqlserver:GEODATA, 11975\GEODATA, 11975; Database=RASTER_DB1; Version=dbo.DEFAULT</linkage>
<protocol Sync="TRUE">ArcSDE Connection</protocol>
</itemLocation>
<nativeExtBox>
<westBL Sync="TRUE">3466953.000000</westBL>
<eastBL Sync="TRUE">3637959.000000</eastBL>
<southBL Sync="TRUE">10107329.000000</southBL>
<northBL Sync="TRUE">10345707.000000</northBL>
<exTypeCode Sync="TRUE">1</exTypeCode>
</nativeExtBox>
</itemProps>
<coordRef>
<type Sync="TRUE">Projected</type>
<geogcsn Sync="TRUE">GCS_North_American_1983</geogcsn>
<csUnits Sync="TRUE">Linear Unit: Foot_US (0.304801)</csUnits>
<projcsn Sync="TRUE">NAD_1983_StatePlane_Texas_Central_FIPS_4203_Feet</projcsn>
<peXml Sync="TRUE">&lt;ProjectedCoordinateSystem xsi:type='typens:ProjectedCoordinateSystem' xmlns:xsi='http://www.w3.org/2001/XMLSchema-instance' xmlns:xs='http://www.w3.org/2001/XMLSchema' xmlns:typens='http://www.esri.com/schemas/ArcGIS/10.6'&gt;&lt;WKT&gt;PROJCS[&amp;quot;NAD_1983_StatePlane_Texas_Central_FIPS_4203_Feet&amp;quot;,GEOGCS[&amp;quot;GCS_North_American_1983&amp;quot;,DATUM[&amp;quot;D_North_American_1983&amp;quot;,SPHEROID[&amp;quot;GRS_1980&amp;quot;,6378137.0,298.257222101]],PRIMEM[&amp;quot;Greenwich&amp;quot;,0.0],UNIT[&amp;quot;Degree&amp;quot;,0.0174532925199433]],PROJECTION[&amp;quot;Lambert_Conformal_Conic&amp;quot;],PARAMETER[&amp;quot;False_Easting&amp;quot;,2296583.333333333],PARAMETER[&amp;quot;False_Northing&amp;quot;,9842500.0],PARAMETER[&amp;quot;Central_Meridian&amp;quot;,-100.3333333333333],PARAMETER[&amp;quot;Standard_Parallel_1&amp;quot;,30.11666666666667],PARAMETER[&amp;quot;Standard_Parallel_2&amp;quot;,31.88333333333333],PARAMETER[&amp;quot;Latitude_Of_Origin&amp;quot;,29.66666666666667],UNIT[&amp;quot;Foot_US&amp;quot;,0.3048006096012192],AUTHORITY[&amp;quot;EPSG&amp;quot;,2277]]&lt;/WKT&gt;&lt;XOrigin&gt;-124805500&lt;/XOrigin&gt;&lt;YOrigin&gt;-81923100&lt;/YOrigin&gt;&lt;XYScale&gt;35432942.484959878&lt;/XYScale&gt;&lt;ZOrigin&gt;-100000&lt;/ZOrigin&gt;&lt;ZScale&gt;10000&lt;/ZScale&gt;&lt;MOrigin&gt;-100000&lt;/MOrigin&gt;&lt;MScale&gt;10000&lt;/MScale&gt;&lt;XYTolerance&gt;0.0032808333333333331&lt;/XYTolerance&gt;&lt;ZTolerance&gt;0.001&lt;/ZTolerance&gt;&lt;MTolerance&gt;0.001&lt;/MTolerance&gt;&lt;HighPrecision&gt;true&lt;/HighPrecision&gt;&lt;WKID&gt;102739&lt;/WKID&gt;&lt;LatestWKID&gt;2277&lt;/LatestWKID&gt;&lt;/ProjectedCoordinateSystem&gt;</peXml>
</coordRef>
<RasterProperties>
<General>
<PixelDepth Sync="TRUE">8</PixelDepth>
<HasColormap Sync="TRUE">FALSE</HasColormap>
<CompressionType Sync="TRUE">None</CompressionType>
<NumBands Sync="TRUE">4</NumBands>
<Format Sync="TRUE">AMD</Format>
<HasPyramids Sync="TRUE">TRUE</HasPyramids>
<SourceType Sync="TRUE">continuous</SourceType>
<PixelType Sync="TRUE">unsigned integer</PixelType>
<NoDataValue Sync="TRUE"/>
</General>
<Properties>
<MaxImageHeight Sync="TRUE">4100</MaxImageHeight>
<MaxImageWidth Sync="TRUE">15000</MaxImageWidth>
<MaxRecordCount Sync="TRUE">1000</MaxRecordCount>
<MaxDownloadImageCount Sync="TRUE">20</MaxDownloadImageCount>
<MaxDownloadSizeLimit Sync="TRUE">2048</MaxDownloadSizeLimit>
<MaxMosaicImageCount Sync="TRUE">20</MaxMosaicImageCount>
<DefaultCompressionQuality Sync="TRUE">75</DefaultCompressionQuality>
<DefaultCompressionTolerance Sync="TRUE">0.01</DefaultCompressionTolerance>
<BlendWidth Sync="TRUE">10</BlendWidth>
<ViewpointSpacingX Sync="TRUE">600</ViewpointSpacingX>
<ViewpointSpacingY Sync="TRUE">300</ViewpointSpacingY>
<AllowedItemMetadata Sync="TRUE">Basic</AllowedItemMetadata>
<DefaultResamplingMethod Sync="TRUE">1</DefaultResamplingMethod>
<AllowedMosaicMethods Sync="TRUE">NorthWest,Center,LockRaster,ByAttribute,Nadir,Viewpoint,Seamline,None</AllowedMosaicMethods>
<AllowedCompressions Sync="TRUE">None,JPEG,LZ77,LERC</AllowedCompressions>
<AllowedMensurationCapabilities Sync="TRUE">None</AllowedMensurationCapabilities>
<AvailableMensurationCapabilities Sync="TRUE">None,Basic,Base-Top Height,Top-Top Shadow Height,Base-Top Shadow Height,3D</AvailableMensurationCapabilities>
<ClipToBoundary Sync="TRUE">-1</ClipToBoundary>
<FootprintMayContainNoData Sync="TRUE">-1</FootprintMayContainNoData>
<CellSizeTolerance Sync="TRUE">0.8</CellSizeTolerance>
<MinimumPixelContribution Sync="TRUE">1</MinimumPixelContribution>
<AvailableMosaicMethods Sync="TRUE">NorthWest,Center,LockRaster,ByAttribute,Nadir,Viewpoint,Seamline,None</AvailableMosaicMethods>
<AvailableCompressionMethods Sync="TRUE">None,JPEG,LZ77,LERC</AvailableCompressionMethods>
<AvailableItemMetadataLevels Sync="TRUE">None,Basic,Full</AvailableItemMetadataLevels>
<BandDefinitionKeyword Sync="TRUE">NaturalColorRGBI</BandDefinitionKeyword>
<AllowedFields Sync="TRUE">Name,MinPS,MaxPS,LowPS,HighPS,Tag,GroupName,ProductName,CenterX,CenterY,ZOrder,Shape.STArea(),Shape.STLength()</AllowedFields>
<MaxCellSize Sync="TRUE">72900</MaxCellSize>
<LowCellSize Sync="TRUE">0.5</LowCellSize>
<HighCellSize Sync="TRUE">1458</HighCellSize>
<TimeStamp.RemoveItems Sync="TRUE">43711.9123422801</TimeStamp.RemoveItems>
<TimeStamp.UpdateExtent Sync="TRUE">43711.912394919</TimeStamp.UpdateExtent>
</Properties>
<Functions Sync="TRUE">
<Function Description="Performs on-the-fly mosaic on a raster catalog." Name="Mosaic Function"/>
</Functions>
</RasterProperties>
</DataProperties>
<SyncDate>20190909</SyncDate>
<SyncTime>16302800</SyncTime>
<ModDate>20190909</ModDate>
<ModTime>16302800</ModTime>
<scaleRange>
<minScale>150000000</minScale>
<maxScale>5000</maxScale>
</scaleRange>
<ArcGISProfile>ItemDescription</ArcGISProfile>
</Esri>
<dataIdInfo>
<envirDesc Sync="TRUE"> Version 6.2 (Build 9200) ; Esri ArcGIS 10.6.1.9270</envirDesc>
<dataLang>
<languageCode Sync="TRUE" value="eng"/>
<countryCode Sync="TRUE" value="USA"/>
</dataLang>
<idCitation>
<resTitle Sync="TRUE">BRAZOS_2011_TIFF_6IN_1FT_cached</resTitle>
<presForm>
<PresFormCd Sync="TRUE" value="005"/>
</presForm>
</idCitation>
<spatRpType>
<SpatRepTypCd Sync="TRUE" value="002"/>
</spatRpType>
<dataExt>
<geoEle>
<GeoBndBox esriExtentType="search">
<exTypeCode Sync="TRUE">1</exTypeCode>
<westBL Sync="TRUE">-96.622493</westBL>
<eastBL Sync="TRUE">-96.051713</eastBL>
<northBL Sync="TRUE">30.996211</northBL>
<southBL Sync="TRUE">30.324310</southBL>
</GeoBndBox>
</geoEle>
</dataExt>
<idPurp>Brazos County 6-inch/1-foot Resolution 4-Band Color Orthoimagery 2011 (cached)</idPurp>
<idAbs>High Resolution Orthoimagery of Brazos County - 4-band (natural color and color infrared), acquired leaf-off January 2011.</idAbs>
<searchKeys>
<keyword>2011 Image</keyword>
<keyword>Orthoimagery</keyword>
<keyword>Aerial</keyword>
</searchKeys>
<idCredit/>
<resConst>
<Consts>
<useLimit>Suitable for on-screen viewing, or printing at or below 96 dpi.</useLimit>
</Consts>
</resConst>
</dataIdInfo>
<mdLang>
<languageCode Sync="TRUE" value="eng"/>
<countryCode Sync="TRUE" value="USA"/>
</mdLang>
<refSysInfo>
<RefSystem>
<refSysID>
<identCode Sync="TRUE" code="2277"/>
<idCodeSpace Sync="TRUE">EPSG</idCodeSpace>
<idVersion Sync="TRUE">5.3(9.0.0)</idVersion>
</refSysID>
</RefSystem>
</refSysInfo>
<spatRepInfo>
<Georect>
<cellGeo>
<CellGeoCd Sync="TRUE" value="002"/>
</cellGeo>
<numDims Sync="TRUE">2</numDims>
<tranParaAv Sync="TRUE">1</tranParaAv>
<chkPtAv Sync="TRUE">0</chkPtAv>
<cornerPts>
<pos Sync="TRUE">3466953.000000 10107329.000000</pos>
</cornerPts>
<cornerPts>
<pos Sync="TRUE">3466953.000000 10345707.000000</pos>
</cornerPts>
<cornerPts>
<pos Sync="TRUE">3637959.000000 10345707.000000</pos>
</cornerPts>
<cornerPts>
<pos Sync="TRUE">3637959.000000 10107329.000000</pos>
</cornerPts>
<centerPt>
<pos Sync="TRUE">3552456.000000 10226518.000000</pos>
</centerPt>
<axisDimension type="002">
<dimSize Sync="TRUE">342012</dimSize>
<dimResol>
<value Sync="TRUE" uom="ftUS">0.500000</value>
</dimResol>
</axisDimension>
<axisDimension type="001">
<dimSize Sync="TRUE">476756</dimSize>
<dimResol>
<value Sync="TRUE" uom="ftUS">0.500000</value>
</dimResol>
</axisDimension>
<ptInPixel>
<PixOrientCd Sync="TRUE" value="001"/>
</ptInPixel>
</Georect>
</spatRepInfo>
<contInfo>
<ImgDesc>
<contentTyp>
<ContentTypCd Sync="TRUE" value="001"/>
</contentTyp>
<covDim>
<Band>
<dimDescrp Sync="TRUE">Red</dimDescrp>
<maxVal Sync="TRUE">251.000000</maxVal>
<minVal Sync="TRUE">1.000000</minVal>
<bitsPerVal Sync="TRUE">8</bitsPerVal>
<valUnit>
<UOM type="length"/>
</valUnit>
</Band>
<Band>
<dimDescrp Sync="TRUE">Green</dimDescrp>
<maxVal Sync="TRUE">252.000000</maxVal>
<minVal Sync="TRUE">1.000000</minVal>
<bitsPerVal Sync="TRUE">8</bitsPerVal>
<valUnit>
<UOM type="length"/>
</valUnit>
</Band>
<Band>
<dimDescrp Sync="TRUE">Blue</dimDescrp>
<maxVal Sync="TRUE">248.000000</maxVal>
<minVal Sync="TRUE">1.000000</minVal>
<bitsPerVal Sync="TRUE">8</bitsPerVal>
<valUnit>
<UOM type="length"/>
</valUnit>
</Band>
<Band>
<dimDescrp Sync="TRUE">Infrared</dimDescrp>
<maxVal Sync="TRUE">245.000000</maxVal>
<minVal Sync="TRUE">0.000000</minVal>
<bitsPerVal Sync="TRUE">8</bitsPerVal>
<valUnit>
<UOM type="length"/>
</valUnit>
</Band>
</covDim>
</ImgDesc>
</contInfo>
<mdDateSt Sync="TRUE">20190909</mdDateSt>
<mdHrLv>
<ScopeCd value="005"/>
</mdHrLv>
</metadata>
