View In:
ArcGIS JavaScript
ArcGIS Online Map Viewer
ArcGIS Earth
ArcMap
View Footprint In:
ArcGIS Online Map Viewer
Service Description: Single-band, black and white imagery collected in 1940 of Brazos County. Individual tiles were downloaded from a Google Drive (courtesy of Texas A&M University) and georeferenced by COBGIS.
Name: Imagery/BRAZOS_1940_cached
Description: Single-band, black and white imagery collected in 1940 of Brazos County. Individual tiles were downloaded from a Google Drive (courtesy of Texas A&M University) and georeferenced by COBGIS.
Single Fused Map Cache: true
Tile Info:
- Height: 256
- Width: 256
- DPI: 96
-
Levels of Detail: 16
- Format: MIXED
- Compression Quality: 75.0
- LERC Error: NaN
- Origin: X: -1.248055E8
Y: 1.7228100000000003E8
- Spatial Reference: 103160
(6578)
LatestVCSWkid(0)
Storage Info:
- Storage Format: esriMapCacheStorageModeCompactV2
- Packet Size: 128
Extent:
XMin: 3460181.058675973
YMin: 1.0101885681172384E7
XMax: 3641486.157664977
YMax: 1.0344201147771388E7
Spatial Reference: 103160
(6578)
LatestVCSWkid(0)
Initial Extent:
XMin: 3460181.058675973
YMin: 1.0101885681172384E7
XMax: 3641486.157664977
YMax: 1.0344201147771388E7
Spatial Reference: 103160
(6578)
LatestVCSWkid(0)
Full Extent:
XMin: 3460181.058675973
YMin: 1.0101885681172384E7
XMax: 3641486.157664977
YMax: 1.0344201147771388E7
Spatial Reference: 103160
(6578)
LatestVCSWkid(0)
Pixel Size X: 2.6677030000000013
Pixel Size Y: 2.6677030000000066
Band Count: 1
Pixel Type: U8
RasterFunction Infos: {"rasterFunctionInfos": [{
"name": "None",
"description": "Make a Raster or Raster Dataset into a Function Raster Dataset.",
"help": ""
}]}
Mensuration Capabilities: None
Has Histograms: true
Has Colormap: false
Has Multi Dimensions : false
Rendering Rule:
Min Scale: 2311162.217155
Max Scale: 564.248588
Min LOD: 0
Max LOD: 15
Copyright Text: Images courtesy of Maps & GIS, Texas A&M University Libraries, Texas A&M University
Service Data Type: esriImageServiceDataTypeGeneric
Min Values: 12
Max Values: 255
Mean Values: 145.8548450136157
Standard Deviation Values: 41.479046167638494
Object ID Field: OBJECTID
Fields:
-
OBJECTID
(
type: esriFieldTypeOID, alias: OBJECTID
)
-
Name
(
type: esriFieldTypeString, alias: Name, length: 200
)
-
MinPS
(
type: esriFieldTypeDouble, alias: MinPS
)
-
MaxPS
(
type: esriFieldTypeDouble, alias: MaxPS
)
-
LowPS
(
type: esriFieldTypeDouble, alias: LowPS
)
-
HighPS
(
type: esriFieldTypeDouble, alias: HighPS
)
-
Category
(
type: esriFieldTypeInteger, alias: Category
, Coded Values:
[0: Unknown]
, [1: Primary]
, [2: Overview]
, ...6 more...
)
-
Tag
(
type: esriFieldTypeString, alias: Tag, length: 100
)
-
GroupName
(
type: esriFieldTypeString, alias: GroupName, length: 100
)
-
ProductName
(
type: esriFieldTypeString, alias: ProductName, length: 100
)
-
CenterX
(
type: esriFieldTypeDouble, alias: CenterX
)
-
CenterY
(
type: esriFieldTypeDouble, alias: CenterY
)
-
ZOrder
(
type: esriFieldTypeInteger, alias: ZOrder
)
-
Shape
(
type: esriFieldTypeGeometry, alias: Shape
)
-
Shape.STArea()
(
type: esriFieldTypeDouble, alias: Shape.STArea()
)
-
Shape.STLength()
(
type: esriFieldTypeDouble, alias: Shape.STLength()
)
Default Mosaic Method: None
Allowed Mosaic Methods: None,NorthWest,Center,LockRaster,ByAttribute,Nadir,Viewpoint,Seamline
SortField: N/A
SortValue: N/A
Mosaic Operator: Blend
Default Compression Quality: 75
Default Resampling Method: Bilinear
Max Record Count: 1000
Max Image Height: 4100
Max Image Width: 15000
Max Download Image Count: 20
Max Mosaic Image Count: 20
Allow Raster Function: true
Allow Copy: true
Allow Analysis: true
Allow Compute TiePoints: false
Supports Statistics: true
Supports Advanced Queries: true
Use StandardizedQueries: true
Raster Type Infos:
Name: Raster Dataset
Description: Supports all ArcGIS Raster Datasets
Help:
Has Raster Attribute Table: false
Edit Fields Info: null
Ownership Based AccessControl For Rasters: null
Child Resources:
Info
Histograms
Statistics
Key Properties
Legend
Raster Function Infos
Supported Operations:
Export Image
Query
Identify
Compute Histograms
Compute Statistics Histograms
Get Samples
Compute Class Statistics
Query Boundary
Compute Pixel Location
Compute Angles
Validate
Project